

BEGIN:VCALENDAR
VERSION:2.0
PRODID:-//wp-events-plugin.com//7.2.3.1//EN
BEGIN:VEVENT
UID:0-210@goodwillcentraltexas.org
DTSTART;TZID=America/Chicago:20240926T180000
DTEND;TZID=America/Chicago:20240926T220000
DTSTAMP:20240904T170302Z
URL:https://www.goodwillcentraltexas.org/events/a-good-night-for-goodwill/
SUMMARY:A Good Night for Goodwill
DESCRIPTION:Join us for a fun night benefiting programs at Goodwill Central
  Texas that transform lives through work and education.\n\nSeptember 26\, 
 2024\nJUNIOR LEAGUE OF AUSTIN CENTER\n\n\n\n\n5330 Bluffstone Ln.\, Austin
 \, TX 78759\n\nGet Directions\n\n\nFESTIVE COCKTAIL ATTIRE\nParking: Comp
 limentary garage parking adjacent to the venue.\n\n\n\n\nEVENING SCHEDULE\
 n6:00-7:00 PM – Cocktail Reception\n\n7:00-8:30 PM – Fashion Moment\, 
 Dinner &amp\; Program\n\n8:30-10:00 PM – Dessert Reception\n\n\n
ATTACH;FMTTYPE=image/jpeg:https://www.goodwillcentraltexas.org/wp-content/
 uploads/2024/09/good-night.png
LOCATION:https://www.goodwillcentraltexas.org/goodnight-for-goodwill/
END:VEVENT
BEGIN:VTIMEZONE
TZID:America/Chicago
X-LIC-LOCATION:America/Chicago
BEGIN:DAYLIGHT
DTSTART:20240310T030000
TZOFFSETFROM:-0600
TZOFFSETTO:-0500
TZNAME:CDT
END:DAYLIGHT
END:VTIMEZONE
END:VCALENDAR