

BEGIN:VCALENDAR
VERSION:2.0
PRODID:-//wp-events-plugin.com//7.2.3.1//EN
BEGIN:VEVENT
UID:0-226@goodwillcentraltexas.org
DTSTART:20250507T100000Z
DTEND:20250507T140000Z
DTSTAMP:20250414T215249Z
URL:https://www.goodwillcentraltexas.org/events/finance-forward-build-conn
 ect-thrive/
SUMMARY:Finance Forward: Build\, Connect\, Thrive
DESCRIPTION:Join Goodwill Central Texas as we celebrate Financial Capabilit
 y Month\n\nConnect with local financial and community resources. Snacks\, 
 swag\, and raffles.\n\n11:00 – 12:00 PM Join GCT Financial Empowerment T
 rainers for a workshop: Spending Less\, Saving More: Take Control of Your 
 Finances\nRaffle Giveaway at the end of training!\n\n12:00 – 1:00 PM | C
 onnect one-on-one with a Financial Empowerment Trainer for Budget Creation
  Support or Financial Goal Planning\n\nConnect\, learn\, and take charge o
 f your financial future- RSVP here!
ATTACH;FMTTYPE=image/jpeg:https://www.goodwillcentraltexas.org/wp-content/
 uploads/2025/04/2025_WFA_Financial-Capability-Month-Event_1080x1080_Static
 .png
CATEGORIES:Resource Fairs
LOCATION:https://maps.app.goo.gl/q6Nw6xKPw1wqBckk9
END:VEVENT
END:VCALENDAR