

BEGIN:VCALENDAR
VERSION:2.0
PRODID:-//wp-events-plugin.com//7.2.3.1//EN
BEGIN:VEVENT
UID:0-227@goodwillcentraltexas.org
DTSTART:20250509T090000Z
DTEND:20250510T150000Z
DTSTAMP:20250417T203525Z
URL:https://www.goodwillcentraltexas.org/events/goodwill-central-texas-job
 -resource-fair/
SUMMARY:Goodwill Central Texas Job and Resource Fair
DESCRIPTION:Join us on Friday\, May 9th for the Goodwill Central Texas Job 
 &amp\; Resource Fair — your opportunity to explore your next career move
  and connect with community resources. We’ll even be conducting on-the-s
 pot interviews for retail positions!\n\n 	Location: Goodwill Resource Cent
 er\n 	6505 Burleson Rd\, Austin\, TX 78744\n 	Time: 9:00 AM – 3:00 PM\n 
 	Free and open to the public\n 	Walk-ins welcome\n 	Great for job seekers 
 of all experience levels\n\nWhether you're starting fresh or taking the ne
 xt big step\, we’re here to support your journey. Mark your calendar and
  come see what’s possible!
ATTACH;FMTTYPE=image/jpeg:https://www.goodwillcentraltexas.org/wp-content/
 uploads/2025/04/GCT-Job-and-Resource-Fair-1.png
CATEGORIES:Job Fair
LOCATION:https://www.linkedin.com/events/goodwillcentraltexasjob-resourc731
 7939012160090113/
END:VEVENT
END:VCALENDAR