

BEGIN:VCALENDAR
VERSION:2.0
PRODID:-//wp-events-plugin.com//7.2.3.1//EN
BEGIN:VEVENT
UID:0-229@goodwillcentraltexas.org
DTSTART:20250620T100000Z
DTEND:20250620T100000Z
DTSTAMP:20250508T182405Z
URL:https://www.goodwillcentraltexas.org/events/liberty-hill-go-2025/
SUMMARY:Grand Opening - Liberty Hill Store
DESCRIPTION:More information coming soon!
ATTACH;FMTTYPE=image/jpeg:https://www.goodwillcentraltexas.org/wp-content/
 uploads/2025/05/LibertyHillGO.png
CATEGORIES:Grand Openings
LOCATION:https://maps.app.goo.gl/KLy8z9C5r1s8CWGx7
END:VEVENT
END:VCALENDAR