

BEGIN:VCALENDAR
VERSION:2.0
PRODID:-//wp-events-plugin.com//7.2.3.1//EN
BEGIN:VEVENT
UID:0-224@goodwillcentraltexas.org
DTSTART;VALUE=DATE:20250425
DTEND;VALUE=DATE:20250428
DTSTAMP:20250404T213820Z
URL:https://www.goodwillcentraltexas.org/events/poppy-fest-2025/
SUMMARY:Red Poppy Festival 2025
DESCRIPTION:The “Red Poppy Capital Of Texas\,” Georgetown\, Texas\, cel
 ebrates the return of the Annual Red Poppy Festival April 25-27\, 2025. Th
 is is the 26th year that the city has hosted the popular\, free\, three-da
 y festival to celebrate the history and beauty of its poppy season. Red Po
 ppies have decorated Georgetown’s landscape for more than 100 years\; on
 e of the few places in the United States where Red Poppies reseed every ye
 ar.\n\nWHAT: Georgetown’s 26th Annual Red Poppy Festival\; Admission is 
 free\nWHEN: April 25-27\, 2025\nWHERE: In and around Georgetown’s histor
 ic town square\n\nThe 2025 festival will feature live music and arts perfo
 rmances throughout the weekend\, handcrafted works from local artisans\, a
  classic car show\, food and family-friendly activities\, including a Kid
 ’s Fun Zone\, and more. The Red Poppy Parade takes place Saturday mornin
 g passing through Georgetown’s historic town square\, known as “The Mo
 st Beautiful Town Square in Texas.”\n\nVisit poppy.georgetown.org for mo
 re updates and information.
ATTACH;FMTTYPE=image/jpeg:https://www.goodwillcentraltexas.org/wp-content/
 uploads/2025/04/40baa4_51f8fc048813471dacae3ede3f2cb257mv2.jpeg
LOCATION:https://maps.app.goo.gl/kT6cKxKfcYrYiCmx6
END:VEVENT
END:VCALENDAR