

BEGIN:VCALENDAR
VERSION:2.0
PRODID:-//wp-events-plugin.com//7.2.3.1//EN
BEGIN:VEVENT
UID:0-200@goodwillcentraltexas.org
DTSTART:20240513T100000Z
DTEND:20240513T140000Z
DTSTAMP:20240507T212034Z
URL:https://www.goodwillcentraltexas.org/events/weareblood-may2024/
SUMMARY:WeAreBlood Drive
DESCRIPTION:Come lend a helping arm\, donate blood to support your communit
 y\, and save local lives!\n\nWe're partnering with WeAreBlood for a blood 
 drive on Monday\, May 13th.\n\nThe bloodmobile will be stationed in front 
 of the Excel Center Adult High School Norwood Campus located at 1015 Norwo
 od Park Blvd\, Austin\, TX 78753\n\nIt's easy\; just click here to schedul
 e your appointment!\n\nAppointments are strongly encouraged\, but walk-ins
  are welcome.\nFor your eligibility questions\, whocandonate@weareblood.or
 g\n\nFor questions specific to our drive\, your “We Are Blood” contact
  is\nGabriela Castro at 512-206-1304 or gcastro@weareblood.org\nYour Blood
  Drive Coordinator is Gabriel Spears at gabriel.spears@goodwillcentraltexa
 s.org\n\n 	Remember! Eat a full meal before donating\, and bring your phot
 o ID.\n 	Participants must be at least 17 years old and weigh a minimum of
  115lbs to donate.\n
ATTACH;FMTTYPE=image/jpeg:https://www.goodwillcentraltexas.org/wp-content/
 uploads/2024/05/WeAreBlood_RGB_150DPI_Primary_Logo.png
LOCATION:https://maps.app.goo.gl/wxpyn72pPF8rDyDM7?g_st=ic
END:VEVENT
END:VCALENDAR